BEGIN:VCALENDAR
VERSION:2.0
PRODID:-//Sacred Moments Massage - ECPv6.15.20//NONSGML v1.0//EN
CALSCALE:GREGORIAN
METHOD:PUBLISH
X-ORIGINAL-URL:https://sacredmomentsmassage.com
X-WR-CALDESC:Events for Sacred Moments Massage
REFRESH-INTERVAL;VALUE=DURATION:PT1H
X-Robots-Tag:noindex
X-PUBLISHED-TTL:PT1H
BEGIN:VTIMEZONE
TZID:UTC
BEGIN:STANDARD
TZOFFSETFROM:+0000
TZOFFSETTO:+0000
TZNAME:UTC
DTSTART:20240101T000000
END:STANDARD
END:VTIMEZONE
BEGIN:VTIMEZONE
TZID:America/New_York
BEGIN:DAYLIGHT
TZOFFSETFROM:-0500
TZOFFSETTO:-0400
TZNAME:EDT
DTSTART:20240310T070000
END:DAYLIGHT
BEGIN:STANDARD
TZOFFSETFROM:-0400
TZOFFSETTO:-0500
TZNAME:EST
DTSTART:20241103T060000
END:STANDARD
BEGIN:DAYLIGHT
TZOFFSETFROM:-0500
TZOFFSETTO:-0400
TZNAME:EDT
DTSTART:20250309T070000
END:DAYLIGHT
BEGIN:STANDARD
TZOFFSETFROM:-0400
TZOFFSETTO:-0500
TZNAME:EST
DTSTART:20251102T060000
END:STANDARD
BEGIN:DAYLIGHT
TZOFFSETFROM:-0500
TZOFFSETTO:-0400
TZNAME:EDT
DTSTART:20260308T070000
END:DAYLIGHT
BEGIN:STANDARD
TZOFFSETFROM:-0400
TZOFFSETTO:-0500
TZNAME:EST
DTSTART:20261101T060000
END:STANDARD
END:VTIMEZONE
BEGIN:VEVENT
DTSTART;TZID=UTC:20251231T093000
DTEND;TZID=UTC:20251231T103000
DTSTAMP:20260420T225831
CREATED:20230729T220547Z
LAST-MODIFIED:20241010T181236Z
UID:10001439-1767173400-1767177000@sacredmomentsmassage.com
SUMMARY:Gentle Slow Flow
DESCRIPTION:Move through each pose slowly and mindfully\, even the transitions from pose to pose is like one long slow graceful dance\, filling you with a sense of freedom and peace. Build a stronger body while releasing tension and flow your way into a more blissful state! Good for beginners and seasoned yogis as well. Sometimes\, less is more!
URL:https://sacredmomentsmassage.com/event/gentle-slow-flow/2025-12-31/
LOCATION:Sacred Moments Massage & Healing Center\, 995 Westwood Square Ste A\, Oviedo\, FL\, 32765\, United States
END:VEVENT
BEGIN:VEVENT
DTSTART;TZID=America/New_York:20251231T110000
DTEND;TZID=America/New_York:20251231T120000
DTSTAMP:20260420T225831
CREATED:20241010T180705Z
LAST-MODIFIED:20241010T180705Z
UID:10009203-1767178800-1767182400@sacredmomentsmassage.com
SUMMARY:Chair Yoga For Everybody
DESCRIPTION:If you always wanted to start a yoga practice\, but struggle with wrist or knee pain\, then chair yoga is for you. If you struggle to get down to the floor or up from the floor\, then chair yoga is for you. Fibromyalgia? Neurological issues? Limited mobility? Senior? Office Worker? Chair Yoga is for YOU! Join us and see how chair yoga can benefit you. Improve your flexibility\, concentration and strength\, while boosting your mood\, and reducing stress and joint strain.
URL:https://sacredmomentsmassage.com/event/chair-yoga-for-every-body-2-2/2025-12-31/
LOCATION:Sacred Moments Massage & Healing Center\, 995 Westwood Square Ste A\, Oviedo\, FL\, 32765\, United States
END:VEVENT
BEGIN:VEVENT
DTSTART;TZID=America/New_York:20251231T180000
DTEND;TZID=America/New_York:20251231T190000
DTSTAMP:20260420T225831
CREATED:20241010T181315Z
LAST-MODIFIED:20251112T185114Z
UID:10010115-1767204000-1767207600@sacredmomentsmassage.com
SUMMARY:Core & Balance
DESCRIPTION:It’s all about the core! In this class\, we focus on strengthening the core\, improving balance and enhancing overall stability and flexibility through a variety of yoga poses. Accessible for all levels. Everyone needs a strong core!
URL:https://sacredmomentsmassage.com/event/core-balance/2025-12-31/
LOCATION:Sacred Moments Massage & Healing Center\, 995 Westwood Square Ste A\, Oviedo\, FL\, 32765\, United States
END:VEVENT
BEGIN:VEVENT
DTSTART;TZID=UTC:20251231T191500
DTEND;TZID=UTC:20251231T201500
DTSTAMP:20260420T225831
CREATED:20251016T125846Z
LAST-MODIFIED:20251112T184352Z
UID:10010375-1767208500-1767212100@sacredmomentsmassage.com
SUMMARY:Hip Hop Fitness
DESCRIPTION:Get ready to groove in our Hip Hop Dance Fitness Class\, a high-energy\, fun-filled experience that’s all about moving your body and lifting your spirits! This class is a judgment-free party where you’ll burn calories while dancing to an electrifying mix of hip hop\, pop\, Latin\, and house beats. No dance skills? No problem! Whether you’re a pro or just here for the vibes\, we’ll have a blast together. Dancing is joy for the soul\, and you’ll leave every session energized\, empowered\, and ready to dance again!
URL:https://sacredmomentsmassage.com/event/hip-hop-fitness/2025-12-31/
LOCATION:Sacred Moments Massage & Healing Center\, 995 Westwood Square Ste A\, Oviedo\, FL\, 32765\, United States
END:VEVENT
END:VCALENDAR