BEGIN:VCALENDAR
VERSION:2.0
PRODID:-//Sacred Moments Massage - ECPv6.15.20//NONSGML v1.0//EN
CALSCALE:GREGORIAN
METHOD:PUBLISH
X-WR-CALNAME:Sacred Moments Massage
X-ORIGINAL-URL:https://sacredmomentsmassage.com
X-WR-CALDESC:Events for Sacred Moments Massage
REFRESH-INTERVAL;VALUE=DURATION:PT1H
X-Robots-Tag:noindex
X-PUBLISHED-TTL:PT1H
BEGIN:VTIMEZONE
TZID:America/New_York
BEGIN:DAYLIGHT
TZOFFSETFROM:-0500
TZOFFSETTO:-0400
TZNAME:EDT
DTSTART:20250309T070000
END:DAYLIGHT
BEGIN:STANDARD
TZOFFSETFROM:-0400
TZOFFSETTO:-0500
TZNAME:EST
DTSTART:20251102T060000
END:STANDARD
BEGIN:DAYLIGHT
TZOFFSETFROM:-0500
TZOFFSETTO:-0400
TZNAME:EDT
DTSTART:20260308T070000
END:DAYLIGHT
BEGIN:STANDARD
TZOFFSETFROM:-0400
TZOFFSETTO:-0500
TZNAME:EST
DTSTART:20261101T060000
END:STANDARD
BEGIN:DAYLIGHT
TZOFFSETFROM:-0500
TZOFFSETTO:-0400
TZNAME:EDT
DTSTART:20270314T070000
END:DAYLIGHT
BEGIN:STANDARD
TZOFFSETFROM:-0400
TZOFFSETTO:-0500
TZNAME:EST
DTSTART:20271107T060000
END:STANDARD
END:VTIMEZONE
BEGIN:VTIMEZONE
TZID:UTC
BEGIN:STANDARD
TZOFFSETFROM:+0000
TZOFFSETTO:+0000
TZNAME:UTC
DTSTART:20250101T000000
END:STANDARD
END:VTIMEZONE
BEGIN:VEVENT
DTSTART;TZID=America/New_York:20260103T080000
DTEND;TZID=America/New_York:20260103T090000
DTSTAMP:20260421T002826
CREATED:20251022T124935Z
LAST-MODIFIED:20251112T184214Z
UID:10013143-1767427200-1767430800@sacredmomentsmassage.com
SUMMARY:Dance Mix Fitness Class
DESCRIPTION:The class that transforms your body & energy! Join us this Saturday & every Saturday at 8am for a unique dance workout! Dance Mix is a unique class that combines various cultural rhythms\, offering a true musical journey. In this class\, you’ll learn dance styles such as Brazilian rhythms\, Latin rhythms\, Flashback\, Hip-Hop\, Line Dance and other popular dances from around the world. Join us & shake your tail feathers! Dance yourself into shape!
URL:https://sacredmomentsmassage.com/event/dance-mix-fitness-class-2/2026-01-03/
LOCATION:Sacred Moments Massage & Healing Center\, 995 Westwood Square Ste A\, Oviedo\, FL\, 32765\, United States
END:VEVENT
BEGIN:VEVENT
DTSTART;TZID=UTC:20260103T100000
DTEND;TZID=UTC:20260103T110000
DTSTAMP:20260421T002826
CREATED:20240514T054207Z
LAST-MODIFIED:20240604T165746Z
UID:10007296-1767434400-1767438000@sacredmomentsmassage.com
SUMMARY:Beginner's Yoga
DESCRIPTION:Never practiced yoga? If you want a gentle way to learn more about yoga\, this class is for you!  In a safe and relaxing atmosphere\, we will take the time to get to know and feel grounded in each pose\, as we concentrate on the importance of the depth and fullness of our breath. All are welcome! This is an excellent introduction for new students and great for the intermediate/experienced student looking to fine tune their practice.
URL:https://sacredmomentsmassage.com/event/beginners-yoga-2/2026-01-03/
LOCATION:Sacred Moments Massage & Healing Center\, 995 Westwood Square Ste A\, Oviedo\, FL\, 32765\, United States
END:VEVENT
END:VCALENDAR