BEGIN:VCALENDAR
VERSION:2.0
PRODID:-//Sacred Moments Massage - ECPv6.15.20//NONSGML v1.0//EN
CALSCALE:GREGORIAN
METHOD:PUBLISH
X-ORIGINAL-URL:https://sacredmomentsmassage.com
X-WR-CALDESC:Events for Sacred Moments Massage
REFRESH-INTERVAL;VALUE=DURATION:PT1H
X-Robots-Tag:noindex
X-PUBLISHED-TTL:PT1H
BEGIN:VTIMEZONE
TZID:UTC
BEGIN:STANDARD
TZOFFSETFROM:+0000
TZOFFSETTO:+0000
TZNAME:UTC
DTSTART:20250101T000000
END:STANDARD
END:VTIMEZONE
BEGIN:VEVENT
DTSTART;TZID=UTC:20261031T100000
DTEND;TZID=UTC:20261031T110000
DTSTAMP:20260421T013124
CREATED:20240514T054207Z
LAST-MODIFIED:20240604T165746Z
UID:10007339-1793440800-1793444400@sacredmomentsmassage.com
SUMMARY:Beginner's Yoga
DESCRIPTION:Never practiced yoga? If you want a gentle way to learn more about yoga\, this class is for you!  In a safe and relaxing atmosphere\, we will take the time to get to know and feel grounded in each pose\, as we concentrate on the importance of the depth and fullness of our breath. All are welcome! This is an excellent introduction for new students and great for the intermediate/experienced student looking to fine tune their practice.
URL:https://sacredmomentsmassage.com/event/beginners-yoga-2/2026-10-31/
LOCATION:Sacred Moments Massage & Healing Center\, 995 Westwood Square Ste A\, Oviedo\, FL\, 32765\, United States
END:VEVENT
END:VCALENDAR